BEGIN:VCALENDAR
VERSION:2.0
PRODID:-//Cabo Verdean American Medical Society - ECPv6.15.16//NONSGML v1.0//EN
CALSCALE:GREGORIAN
METHOD:PUBLISH
X-WR-CALNAME:Cabo Verdean American Medical Society
X-ORIGINAL-URL:https://cvaphysicians.org
X-WR-CALDESC:Events for Cabo Verdean American Medical Society
REFRESH-INTERVAL;VALUE=DURATION:PT1H
X-Robots-Tag:noindex
X-PUBLISHED-TTL:PT1H
BEGIN:VTIMEZONE
TZID:America/Santiago
BEGIN:STANDARD
TZOFFSETFROM:-0300
TZOFFSETTO:-0400
TZNAME:-04
DTSTART:20240407T030000
END:STANDARD
BEGIN:DAYLIGHT
TZOFFSETFROM:-0400
TZOFFSETTO:-0300
TZNAME:-03
DTSTART:20240908T040000
END:DAYLIGHT
BEGIN:STANDARD
TZOFFSETFROM:-0300
TZOFFSETTO:-0400
TZNAME:-04
DTSTART:20250406T030000
END:STANDARD
BEGIN:DAYLIGHT
TZOFFSETFROM:-0400
TZOFFSETTO:-0300
TZNAME:-03
DTSTART:20250907T040000
END:DAYLIGHT
BEGIN:STANDARD
TZOFFSETFROM:-0300
TZOFFSETTO:-0400
TZNAME:-04
DTSTART:20260405T030000
END:STANDARD
BEGIN:DAYLIGHT
TZOFFSETFROM:-0400
TZOFFSETTO:-0300
TZNAME:-03
DTSTART:20260906T040000
END:DAYLIGHT
END:VTIMEZONE
BEGIN:VEVENT
DTSTART;TZID=America/Santiago:20251004T190000
DTEND;TZID=America/Santiago:20251004T190000
DTSTAMP:20260420T092138
CREATED:20250822T181606Z
LAST-MODIFIED:20250920T123326Z
UID:3003-1759604400-1759604400@cvaphysicians.org
SUMMARY:5th Annual Fundraiser Gala
DESCRIPTION:Date: Saturday October 4th of 2025 \nLocation: Providence Marriott Downtown\, 1 Orms Street\, Providence RI 02904 \nCelebrating our 5th Year Anniversary\nOur signature Gala Fundraiser will follow on Saturday\, October 4\, from 7–11 PM at the Marriott Downtown Providence. This celebratory evening will feature live entertainment from internationally renowned Cabo Verdean artists Maria Barros\, Michel Montrond\, Assol Garcia\, and  DJ Chris. \nOver the past five years\, CVAMS has delivered life-changing care across eight islands of Cabo Verde. We have launched specialized surgical and cardiac initiatives (rheumatic heart disease screening program)\, cancer screening research\, supported the WTL Health Clinic in Pawtucket\, RI\, and provided over $2 million worth of medical supplies and equipment to hospitals and clinics in need. \nThis work is only possible with the support of generous partners like you. We invite you to join us as a sponsor in continuing this vital mission. Your contribution will help fund medical training\, critical supplies\, and healthcare delivery in underserved and remote communities—both abroad and locally. \nTogether\, we can expand access\, strengthen systems\, and save lives. \n  \n5th Annual Fundraiser Gala
URL:https://cvaphysicians.org/event/5th-annual-fundraiser-gala/
LOCATION:Providence Marriott Downtown\, 1 Orms Street\, Providence\, RI\, 02904\, United States
END:VEVENT
END:VCALENDAR