BEGIN:VCALENDAR
VERSION:2.0
PRODID:-//Cabo Verdean American Medical Society - ECPv6.15.16//NONSGML v1.0//EN
CALSCALE:GREGORIAN
METHOD:PUBLISH
X-WR-CALNAME:Cabo Verdean American Medical Society
X-ORIGINAL-URL:https://cvaphysicians.org
X-WR-CALDESC:Events for Cabo Verdean American Medical Society
REFRESH-INTERVAL;VALUE=DURATION:PT1H
X-Robots-Tag:noindex
X-PUBLISHED-TTL:PT1H
BEGIN:VTIMEZONE
TZID:America/New_York
BEGIN:DAYLIGHT
TZOFFSETFROM:-0500
TZOFFSETTO:-0400
TZNAME:EDT
DTSTART:20210314T070000
END:DAYLIGHT
BEGIN:STANDARD
TZOFFSETFROM:-0400
TZOFFSETTO:-0500
TZNAME:EST
DTSTART:20211107T060000
END:STANDARD
BEGIN:DAYLIGHT
TZOFFSETFROM:-0500
TZOFFSETTO:-0400
TZNAME:EDT
DTSTART:20220313T070000
END:DAYLIGHT
BEGIN:STANDARD
TZOFFSETFROM:-0400
TZOFFSETTO:-0500
TZNAME:EST
DTSTART:20221106T060000
END:STANDARD
BEGIN:DAYLIGHT
TZOFFSETFROM:-0500
TZOFFSETTO:-0400
TZNAME:EDT
DTSTART:20230312T070000
END:DAYLIGHT
BEGIN:STANDARD
TZOFFSETFROM:-0400
TZOFFSETTO:-0500
TZNAME:EST
DTSTART:20231105T060000
END:STANDARD
END:VTIMEZONE
BEGIN:VEVENT
DTSTART;VALUE=DATE:20220702
DTEND;VALUE=DATE:20220703
DTSTAMP:20260423T024430
CREATED:20220620T151406Z
LAST-MODIFIED:20220822T160416Z
UID:965-1656720000-1656806399@cvaphysicians.org
SUMMARY:Annual  Cabo Verde Pride Parade
DESCRIPTION:July 2nd  the Annual  Cabo Verde Prude Parade  will take place in New Bedford.  We are very proud that   Dr. Patrica Andrade one of our founding members Will be the Grand Marshall. The Cabo Verdean American Medical Society will be present and look forward to seeing you there.\nAnnual  Cabo Verde Pride Parade
URL:https://cvaphysicians.org/event/annual-cabo-verde-prude-parade/
END:VEVENT
END:VCALENDAR