BEGIN:VCALENDAR
VERSION:2.0
PRODID:-//Cabo Verdean American Medical Society - ECPv6.15.16//NONSGML v1.0//EN
CALSCALE:GREGORIAN
METHOD:PUBLISH
X-WR-CALNAME:Cabo Verdean American Medical Society
X-ORIGINAL-URL:https://cvaphysicians.org
X-WR-CALDESC:Events for Cabo Verdean American Medical Society
REFRESH-INTERVAL;VALUE=DURATION:PT1H
X-Robots-Tag:noindex
X-PUBLISHED-TTL:PT1H
BEGIN:VTIMEZONE
TZID:America/New_York
BEGIN:DAYLIGHT
TZOFFSETFROM:-0500
TZOFFSETTO:-0400
TZNAME:EDT
DTSTART:20220313T070000
END:DAYLIGHT
BEGIN:STANDARD
TZOFFSETFROM:-0400
TZOFFSETTO:-0500
TZNAME:EST
DTSTART:20221106T060000
END:STANDARD
BEGIN:DAYLIGHT
TZOFFSETFROM:-0500
TZOFFSETTO:-0400
TZNAME:EDT
DTSTART:20230312T070000
END:DAYLIGHT
BEGIN:STANDARD
TZOFFSETFROM:-0400
TZOFFSETTO:-0500
TZNAME:EST
DTSTART:20231105T060000
END:STANDARD
BEGIN:DAYLIGHT
TZOFFSETFROM:-0500
TZOFFSETTO:-0400
TZNAME:EDT
DTSTART:20240310T070000
END:DAYLIGHT
BEGIN:STANDARD
TZOFFSETFROM:-0400
TZOFFSETTO:-0500
TZNAME:EST
DTSTART:20241103T060000
END:STANDARD
END:VTIMEZONE
BEGIN:VEVENT
DTSTART;TZID=America/New_York:20230805T110000
DTEND;TZID=America/New_York:20230805T170000
DTSTAMP:20260425T173821
CREATED:20230731T164324Z
LAST-MODIFIED:20230731T164324Z
UID:1785-1691233200-1691254800@cvaphysicians.org
SUMMARY:Cabo Verdean American Medical Society’s Monthly meeting
DESCRIPTION:Our next monthly meeting will take place on August 5th 11 am and Dr. Azana \, Director of Gastroenterology at Hospital Agostinho Neto will present of Gastro-intestinal bleeding in Cabo Verde Diagnostic and therapeutic strategies in an environment of limited resources. \nTopic: Cabo Verdean American Medical Society’s Monthly meeting\nTime: Aug 5\, 2023 11:00 AM Eastern Time (US and Canada) \nJoin Zoom Meeting\nhttps://us06web.zoom.us/j/82276435359 \nMeeting ID: 822 7643 5359
URL:https://cvaphysicians.org/event/cabo-verdean-american-medical-societys-monthly-meeting/
END:VEVENT
END:VCALENDAR