BEGIN:VCALENDAR
VERSION:2.0
PRODID:-//Cabo Verdean American Medical Society - ECPv6.15.16//NONSGML v1.0//EN
CALSCALE:GREGORIAN
METHOD:PUBLISH
X-WR-CALNAME:Cabo Verdean American Medical Society
X-ORIGINAL-URL:https://cvaphysicians.org
X-WR-CALDESC:Events for Cabo Verdean American Medical Society
REFRESH-INTERVAL;VALUE=DURATION:PT1H
X-Robots-Tag:noindex
X-PUBLISHED-TTL:PT1H
BEGIN:VTIMEZONE
TZID:America/New_York
BEGIN:DAYLIGHT
TZOFFSETFROM:-0500
TZOFFSETTO:-0400
TZNAME:EDT
DTSTART:20230312T070000
END:DAYLIGHT
BEGIN:STANDARD
TZOFFSETFROM:-0400
TZOFFSETTO:-0500
TZNAME:EST
DTSTART:20231105T060000
END:STANDARD
BEGIN:DAYLIGHT
TZOFFSETFROM:-0500
TZOFFSETTO:-0400
TZNAME:EDT
DTSTART:20240310T070000
END:DAYLIGHT
BEGIN:STANDARD
TZOFFSETFROM:-0400
TZOFFSETTO:-0500
TZNAME:EST
DTSTART:20241103T060000
END:STANDARD
BEGIN:DAYLIGHT
TZOFFSETFROM:-0500
TZOFFSETTO:-0400
TZNAME:EDT
DTSTART:20250309T070000
END:DAYLIGHT
BEGIN:STANDARD
TZOFFSETFROM:-0400
TZOFFSETTO:-0500
TZNAME:EST
DTSTART:20251102T060000
END:STANDARD
END:VTIMEZONE
BEGIN:VTIMEZONE
TZID:America/Santiago
BEGIN:STANDARD
TZOFFSETFROM:-0300
TZOFFSETTO:-0400
TZNAME:-04
DTSTART:20230402T030000
END:STANDARD
BEGIN:DAYLIGHT
TZOFFSETFROM:-0400
TZOFFSETTO:-0300
TZNAME:-03
DTSTART:20230903T040000
END:DAYLIGHT
BEGIN:STANDARD
TZOFFSETFROM:-0300
TZOFFSETTO:-0400
TZNAME:-04
DTSTART:20240407T030000
END:STANDARD
BEGIN:DAYLIGHT
TZOFFSETFROM:-0400
TZOFFSETTO:-0300
TZNAME:-03
DTSTART:20240908T040000
END:DAYLIGHT
BEGIN:STANDARD
TZOFFSETFROM:-0300
TZOFFSETTO:-0400
TZNAME:-04
DTSTART:20250406T030000
END:STANDARD
BEGIN:DAYLIGHT
TZOFFSETFROM:-0400
TZOFFSETTO:-0300
TZNAME:-03
DTSTART:20250907T040000
END:DAYLIGHT
END:VTIMEZONE
BEGIN:VEVENT
DTSTART;TZID=America/New_York:20240927T080000
DTEND;TZID=America/New_York:20240928T170000
DTSTAMP:20260423T054135
CREATED:20240705T204930Z
LAST-MODIFIED:20240925T232638Z
UID:2361-1727424000-1727542800@cvaphysicians.org
SUMMARY:4th Annual Meeting 2024
DESCRIPTION:Location\n\nRhode Island Hospital – Friday\, September 27 (8.00 AM – 5.00 PM)\nWarren Alpert Medical School of Brown University – Saturday\, September 28 (8.00 AM – 5.00 PM)\n\nAbout this event\nAttendees will learn about the issues impacting the health of Cabo Verdianos and gain the skills to address current and future health challenges facing the community in the islands and the United States.  The conference will highlight current collaboration between healthcare providers in the US and Cabo Verde and emphasize the following key issues: building workforce capacity\, medical education\, forming effective cross-cultural collaborations\, building community\, and promoting research. \nOBJECTIVES:  \n\nGain insight into the organizational structure of the current Cabo Verdianos health system\, and identify its key infrastructural pillars including facilities and services\, existing healthcare workforce\, current information technology\, and intrinsic challenges.\nAttain an understanding of the current health education system in Cabo Verde and address the current and future workforce needs. Identify the areas where CVAMS members have identified gaps and discuss their efforts to train Cabo Verdianos doctors\, nurses\, radiology technicians\, and others.\nDevelop relationship and community building skills across cultures. Learn to acknowledge and honor differences among professionals and learn from each other in a trusting atmosphere of cultural humility.\nConvene organizations of Cabo Verdianos Americans to spotlight their visions\, current projects and opportunities for the CV community.\nHighlight current research projects by Cabo Verdiano researchers in the United States and the islands.\n\n  \nWe are excited to welcome you to our upcoming CVAMS 4th Annual Meeting conference weekend! Below\, you will find important details for each day\, including parking instructions and venue information. \n\nFriday\, September 27th\, 2024\nLocation: Rhode Island Hospital – George Auditorium\n593 Eddy Street\, Providence\, RI 02903 \nParking Instructions: \n\nPlease park at the Plain Street public parking lot.\nWalk towards the APC (Ambulatory Patient Center).\nCheck in at Security to receive a guest sticker.\nA short walk will take you to George Auditorium.\n\nFor more information about parking and directions\, please visit:\nRhode Island Hospital Maps and Directions \n\nSaturday\, September 28th\, 2024\nLocation: The Warren Alpert Medical School of Brown University – Main Atrium\n222 Richmond St\, Providence\, RI \nFor parking details and directions\, please visit:\nWarren Alpert Medical School Maps and Directions \n\nIf you have any questions or need further assistance\, feel free to reach out. We look forward to seeing you and hope you have a fantastic conference experience!
URL:https://cvaphysicians.org/event/4th-annual-meeting-2024/
ATTACH;FMTTYPE=image/jpeg:https://cvaphysicians.org/wp-content/uploads/2024/07/24conf.2.0.jpg
END:VEVENT
BEGIN:VEVENT
DTSTART;TZID=America/Santiago:20240928T190000
DTEND;TZID=America/Santiago:20240929T000000
DTSTAMP:20260423T054135
CREATED:20240808T172852Z
LAST-MODIFIED:20240920T161020Z
UID:2408-1727550000-1727568000@cvaphysicians.org
SUMMARY:2024 Gala Fundraiser in Providence by Cabo Verdean American Medical Society
DESCRIPTION:Let’s Advance Healthcare Together\nBe part of history at our fundraising evening\, where your presence helps shape a better future—celebrate inspiring healthcare achievements\, enjoy live performances by Cremilda Medina and surprise artists. \nBuy Tickets	 \nDate and Time:\nSaturday\, September 28th \n7 PM – 12 AM \nLocation\nProvidence Marriott Downtown \n1 Orms Street Providence\, RI 02904 \nAn evening of celebration on the 4th Anniversary of The Cabo Verdean American Medical Society\, nurses\, physicians \, mental health workers giving back to our communities\, restoring vision with cataract surgery\, saving lives with cardiac peacemakers\, cancer surgery and suicide prevention among many other wonderful projects. Come learn more and contribute with the wonderful voice of Cremilda Medina and other artists. \nPlus a surprise artist! \nJoin us for an elegant reception at the Grand Ballroom\, beginning at 7 PM. \nSavor a delightful dinner featuring exquisite New England cuisine\, perfectly paired with fine wines.
URL:https://cvaphysicians.org/event/2024-gala-fundraiser-in-providence-by-cabo-verdean-american-medical-society/
LOCATION:Providence Marriott Downtown\, 1 Orms Street\, Providence\, RI\, 02904\, United States
ATTACH;FMTTYPE=image/jpeg:https://cvaphysicians.org/wp-content/uploads/2024/08/IGMaingala24.jpg
END:VEVENT
END:VCALENDAR